BEGIN:VCALENDAR
VERSION:2.0
PRODID:-//San Antonio Saints - ECPv6.13.2.1//NONSGML v1.0//EN
CALSCALE:GREGORIAN
METHOD:PUBLISH
X-WR-CALNAME:San Antonio Saints
X-ORIGINAL-URL:https://sasaints.net
X-WR-CALDESC:Events for San Antonio Saints
REFRESH-INTERVAL;VALUE=DURATION:PT1H
X-Robots-Tag:noindex
X-PUBLISHED-TTL:PT1H
BEGIN:VTIMEZONE
TZID:America/Chicago
BEGIN:DAYLIGHT
TZOFFSETFROM:-0600
TZOFFSETTO:-0500
TZNAME:CDT
DTSTART:20220313T080000
END:DAYLIGHT
BEGIN:STANDARD
TZOFFSETFROM:-0500
TZOFFSETTO:-0600
TZNAME:CST
DTSTART:20221106T070000
END:STANDARD
END:VTIMEZONE
BEGIN:VEVENT
DTSTART;TZID=America/Chicago:20220830T170000
DTEND;TZID=America/Chicago:20220830T190000
DTSTAMP:20260424T172212
CREATED:20220727T065326Z
LAST-MODIFIED:20220803T143411Z
UID:2812-1661878800-1661886000@sasaints.net
SUMMARY:@ Brentwood Christian School
DESCRIPTION:AWAY \nJV – 5:00 pm \nVarsity – 6:00 pm
URL:https://sasaints.net/event/brentwood/
LOCATION:Brentwood Christian School\, 11908 N Lamar Blvd\, Austin\, TX\, 78753\, United States
CATEGORIES:JV,Varsity
END:VEVENT
BEGIN:VEVENT
DTSTART;TZID=America/Chicago:20220829T180000
DTEND;TZID=America/Chicago:20220829T200000
DTSTAMP:20260424T172212
CREATED:20220804T182151Z
LAST-MODIFIED:20220804T182151Z
UID:2941-1661796000-1661803200@sasaints.net
SUMMARY:Practice
DESCRIPTION:
URL:https://sasaints.net/event/practice-18/
LOCATION:FORCE Sports Center\, 7218 N Loop 1604 E\, San Antonio\, TX\, 78233\, United States
CATEGORIES:Varsity
END:VEVENT
BEGIN:VEVENT
DTSTART;TZID=America/Chicago:20220829T163000
DTEND;TZID=America/Chicago:20220829T183000
DTSTAMP:20260424T172212
CREATED:20220804T182141Z
LAST-MODIFIED:20220804T182141Z
UID:2940-1661790600-1661797800@sasaints.net
SUMMARY:Practice
DESCRIPTION:
URL:https://sasaints.net/event/practice-17/
LOCATION:FORCE Sports Center\, 7218 N Loop 1604 E\, San Antonio\, TX\, 78233\, United States
CATEGORIES:JV,MSA,MSB
END:VEVENT
BEGIN:VEVENT
DTSTART;VALUE=DATE:20220827
DTEND;VALUE=DATE:20220828
DTSTAMP:20260424T172212
CREATED:20220727T065323Z
LAST-MODIFIED:20220803T145017Z
UID:2811-1661558400-1661644799@sasaints.net
SUMMARY:Saints Middle School Tournament
DESCRIPTION:
URL:https://sasaints.net/event/saints-middle-school-tournament/
LOCATION:FORCE Sports Center\, 7218 N Loop 1604 E\, San Antonio\, TX\, 78233\, United States
CATEGORIES:MSA,MSB
END:VEVENT
BEGIN:VEVENT
DTSTART;TZID=America/Chicago:20220826T100000
DTEND;TZID=America/Chicago:20220826T120000
DTSTAMP:20260424T172212
CREATED:20220824T024334Z
LAST-MODIFIED:20220824T024501Z
UID:3107-1661508000-1661515200@sasaints.net
SUMMARY:⚽️ Soccer Clinic
DESCRIPTION:Saints Soccer clinics are back!
URL:https://sasaints.net/event/2022-08-26-soccer-clinic/
LOCATION:Champions Soccer Field\, 3600 Fredricksburg Rd\, San Antonio\, TX\, 78201\, United States
CATEGORIES:Clinic,Soccer
END:VEVENT
BEGIN:VEVENT
DTSTART;TZID=America/Chicago:20220825T170000
DTEND;TZID=America/Chicago:20220825T190000
DTSTAMP:20260424T172212
CREATED:20220727T065322Z
LAST-MODIFIED:20220803T150351Z
UID:2810-1661446800-1661454000@sasaints.net
SUMMARY:@ Bracken
DESCRIPTION:AWAY \nJV – 5:00 pm \nVarsity – 6:00 pm
URL:https://sasaints.net/event/bracken/
LOCATION:BCS Gym\, 670 Old Boerne Rd\, Bulverde\, TX\, 78163\, United States
CATEGORIES:JV,Varsity
END:VEVENT
BEGIN:VEVENT
DTSTART;TZID=America/Chicago:20220824T153000
DTEND;TZID=America/Chicago:20220824T173000
DTSTAMP:20260424T172212
CREATED:20220804T182127Z
LAST-MODIFIED:20220804T182127Z
UID:2939-1661355000-1661362200@sasaints.net
SUMMARY:Practice
DESCRIPTION:
URL:https://sasaints.net/event/practice-16/
LOCATION:FORCE Sports Center\, 7218 N Loop 1604 E\, San Antonio\, TX\, 78233\, United States
CATEGORIES:JV,Varsity
END:VEVENT
BEGIN:VEVENT
DTSTART;TZID=America/Chicago:20220824T133000
DTEND;TZID=America/Chicago:20220824T153000
DTSTAMP:20260424T172212
CREATED:20220804T182113Z
LAST-MODIFIED:20220804T182113Z
UID:2938-1661347800-1661355000@sasaints.net
SUMMARY:Practice
DESCRIPTION:
URL:https://sasaints.net/event/practice-15/
LOCATION:FORCE Sports Center\, 7218 N Loop 1604 E\, San Antonio\, TX\, 78233\, United States
CATEGORIES:MSA,MSB
END:VEVENT
BEGIN:VEVENT
DTSTART;TZID=America/Chicago:20220824T100000
DTEND;TZID=America/Chicago:20220824T120000
DTSTAMP:20260424T172212
CREATED:20220824T024227Z
LAST-MODIFIED:20220824T164340Z
UID:3104-1661335200-1661342400@sasaints.net
SUMMARY:⚽️ Soccer Clinic
DESCRIPTION:Saints Soccer clinics are back!
URL:https://sasaints.net/event/2022-08-24-soccer-clinic/
LOCATION:Champions Soccer Field\, 3600 Fredricksburg Rd\, San Antonio\, TX\, 78201\, United States
CATEGORIES:Clinic,Soccer
END:VEVENT
BEGIN:VEVENT
DTSTART;TZID=America/Chicago:20220823T180000
DTEND;TZID=America/Chicago:20220823T200000
DTSTAMP:20260424T172212
CREATED:20220804T182057Z
LAST-MODIFIED:20220822T225133Z
UID:2937-1661277600-1661284800@sasaints.net
SUMMARY:**CANCELED**  Practice
DESCRIPTION:This practice is canceled.
URL:https://sasaints.net/event/practice-14/
LOCATION:FORCE Sports Center\, 7218 N Loop 1604 E\, San Antonio\, TX\, 78233\, United States
CATEGORIES:JV,Varsity
END:VEVENT
BEGIN:VEVENT
DTSTART;TZID=America/Chicago:20220822T163000
DTEND;TZID=America/Chicago:20220822T213000
DTSTAMP:20260424T172212
CREATED:20220727T065316Z
LAST-MODIFIED:20220821T222721Z
UID:2809-1661185800-1661203800@sasaints.net
SUMMARY:@ Great Hearts Northern Oaks
DESCRIPTION:AWAY \nMSA – 4:30 pm \nMSB – 5:45 pm \nJV – 7:00 pm \nVarsity – 8:15 pm
URL:https://sasaints.net/event/great-hearts-northern-oaks-2/
LOCATION:Great Hearts Nothern Oaks\, 17223 Jones Maltsberger Rd.\, San Antonio\, TX\, 78247\, United States
CATEGORIES:JV,MSA,MSB,Varsity
END:VEVENT
BEGIN:VEVENT
DTSTART;VALUE=DATE:20220819
DTEND;VALUE=DATE:20220821
DTSTAMP:20260424T172212
CREATED:20220727T065310Z
LAST-MODIFIED:20220804T184213Z
UID:2808-1660867200-1661039999@sasaints.net
SUMMARY:CHSM Tournament
DESCRIPTION:This is a two day format tournament. \n  \nGate Fees: \nAdults – $12/day or $20/weekend \nStudents $10/day or $15/weekend \nPayment by cash\, Cash App\, or Venmo. Convenience fee charged for Cash App and Venmo.
URL:https://sasaints.net/event/chsm-tournament/
LOCATION:The Competitive Edge\, 2733 Rayford Rd\, Spring\, TX\, 77386\, United States
CATEGORIES:JV,MSA,MSB,Varsity
END:VEVENT
BEGIN:VEVENT
DTSTART;TZID=America/Chicago:20220817T153000
DTEND;TZID=America/Chicago:20220817T173000
DTSTAMP:20260424T172212
CREATED:20220804T182033Z
LAST-MODIFIED:20220804T182033Z
UID:2936-1660750200-1660757400@sasaints.net
SUMMARY:Practice
DESCRIPTION:
URL:https://sasaints.net/event/practice-13/
LOCATION:FORCE Sports Center\, 7218 N Loop 1604 E\, San Antonio\, TX\, 78233\, United States
CATEGORIES:JV,Varsity
END:VEVENT
BEGIN:VEVENT
DTSTART;TZID=America/Chicago:20220817T133000
DTEND;TZID=America/Chicago:20220817T153000
DTSTAMP:20260424T172212
CREATED:20220804T182012Z
LAST-MODIFIED:20220804T182012Z
UID:2935-1660743000-1660750200@sasaints.net
SUMMARY:Practice
DESCRIPTION:
URL:https://sasaints.net/event/practice-12/
LOCATION:FORCE Sports Center\, 7218 N Loop 1604 E\, San Antonio\, TX\, 78233\, United States
CATEGORIES:MSA,MSB
END:VEVENT
BEGIN:VEVENT
DTSTART;TZID=America/Chicago:20220816T170000
DTEND;TZID=America/Chicago:20220816T190000
DTSTAMP:20260424T172212
CREATED:20220727T065308Z
LAST-MODIFIED:20220907T024637Z
UID:2807-1660669200-1660676400@sasaints.net
SUMMARY:John Paul II
DESCRIPTION:JV – 5:00 pm \nVarsity – 6:00 pm
URL:https://sasaints.net/event/john-paul-ii/
LOCATION:FORCE Sports Center\, 7218 N Loop 1604 E\, San Antonio\, TX\, 78233\, United States
CATEGORIES:JV,Varsity
END:VEVENT
BEGIN:VEVENT
DTSTART;TZID=America/Chicago:20220815T180000
DTEND;TZID=America/Chicago:20220815T200000
DTSTAMP:20260424T172212
CREATED:20220804T181955Z
LAST-MODIFIED:20220804T181955Z
UID:2934-1660586400-1660593600@sasaints.net
SUMMARY:Practice
DESCRIPTION:
URL:https://sasaints.net/event/practice-11/
LOCATION:FORCE Sports Center\, 7218 N Loop 1604 E\, San Antonio\, TX\, 78233\, United States
CATEGORIES:Varsity
END:VEVENT
BEGIN:VEVENT
DTSTART;TZID=America/Chicago:20220815T163000
DTEND;TZID=America/Chicago:20220815T183000
DTSTAMP:20260424T172212
CREATED:20220804T181941Z
LAST-MODIFIED:20220804T181941Z
UID:2933-1660581000-1660588200@sasaints.net
SUMMARY:Practice
DESCRIPTION:
URL:https://sasaints.net/event/practice-10/
LOCATION:FORCE Sports Center\, 7218 N Loop 1604 E\, San Antonio\, TX\, 78233\, United States
CATEGORIES:JV,MSA,MSB
END:VEVENT
BEGIN:VEVENT
DTSTART;TZID=America/Chicago:20220811T170000
DTEND;TZID=America/Chicago:20220811T193000
DTSTAMP:20260424T172212
CREATED:20220727T065307Z
LAST-MODIFIED:20220803T144804Z
UID:2806-1660237200-1660246200@sasaints.net
SUMMARY:Great Hearts Northern Oaks
DESCRIPTION:JV – 5:00 pm \nVarsity – 6:15 pm
URL:https://sasaints.net/event/great-hearts-northern-oaks/
LOCATION:FORCE Sports Center\, 7218 N Loop 1604 E\, San Antonio\, TX\, 78233\, United States
CATEGORIES:JV,Varsity
END:VEVENT
BEGIN:VEVENT
DTSTART;TZID=America/Chicago:20220810T153000
DTEND;TZID=America/Chicago:20220810T173000
DTSTAMP:20260424T172212
CREATED:20220804T181926Z
LAST-MODIFIED:20220804T181926Z
UID:2932-1660145400-1660152600@sasaints.net
SUMMARY:Practice
DESCRIPTION:
URL:https://sasaints.net/event/practice-9/
LOCATION:FORCE Sports Center\, 7218 N Loop 1604 E\, San Antonio\, TX\, 78233\, United States
CATEGORIES:JV,Varsity
END:VEVENT
BEGIN:VEVENT
DTSTART;TZID=America/Chicago:20220810T133000
DTEND;TZID=America/Chicago:20220810T153000
DTSTAMP:20260424T172212
CREATED:20220804T181858Z
LAST-MODIFIED:20220804T181906Z
UID:2931-1660138200-1660145400@sasaints.net
SUMMARY:Practice
DESCRIPTION:
URL:https://sasaints.net/event/practice-8/
LOCATION:FORCE Sports Center\, 7218 N Loop 1604 E\, San Antonio\, TX\, 78233\, United States
CATEGORIES:MSA,MSB
END:VEVENT
BEGIN:VEVENT
DTSTART;TZID=America/Chicago:20220809T173000
DTEND;TZID=America/Chicago:20220809T193000
DTSTAMP:20260424T172212
CREATED:20220727T065305Z
LAST-MODIFIED:20220803T150625Z
UID:2805-1660066200-1660073400@sasaints.net
SUMMARY:@ Round Rock Christian Academy
DESCRIPTION:AWAY \nJV – 5:30 pm \nVarsity – 6:30 pm
URL:https://sasaints.net/event/round-rock-christian-academy/
LOCATION:Round Rock Cristian Academy\, 800 Westwood Drive\, Round Rock\, TX\, 78681\, United States
CATEGORIES:JV,Varsity
END:VEVENT
BEGIN:VEVENT
DTSTART;TZID=America/Chicago:20220808T180000
DTEND;TZID=America/Chicago:20220808T200000
DTSTAMP:20260424T172212
CREATED:20220804T181836Z
LAST-MODIFIED:20220804T181836Z
UID:2930-1659981600-1659988800@sasaints.net
SUMMARY:Practice
DESCRIPTION:
URL:https://sasaints.net/event/practice-7/
LOCATION:FORCE Sports Center\, 7218 N Loop 1604 E\, San Antonio\, TX\, 78233\, United States
CATEGORIES:Varsity
END:VEVENT
BEGIN:VEVENT
DTSTART;TZID=America/Chicago:20220808T163000
DTEND;TZID=America/Chicago:20220808T183000
DTSTAMP:20260424T172212
CREATED:20220804T181113Z
LAST-MODIFIED:20220804T181810Z
UID:2929-1659976200-1659983400@sasaints.net
SUMMARY:Practice
DESCRIPTION:
URL:https://sasaints.net/event/practice-6/
LOCATION:FORCE Sports Center\, 7218 N Loop 1604 E\, San Antonio\, TX\, 78233\, United States
CATEGORIES:JV,MSA,MSB
END:VEVENT
BEGIN:VEVENT
DTSTART;TZID=America/Chicago:20220806T100000
DTEND;TZID=America/Chicago:20220806T140000
DTSTAMP:20260424T172212
CREATED:20220727T065300Z
LAST-MODIFIED:20220803T144117Z
UID:2804-1659780000-1659794400@sasaints.net
SUMMARY:@ Heritage Tri Match
DESCRIPTION:This is a Varsity-only tri match with Fredricksburg Heritage and Harper ISD.
URL:https://sasaints.net/event/heritage-tri-match/
LOCATION:Heritage School\, 310 Smokehouse Road\, Fredricksburg\, 78624\, United States
CATEGORIES:Varsity
END:VEVENT
BEGIN:VEVENT
DTSTART;TZID=America/Chicago:20220805T093000
DTEND;TZID=America/Chicago:20220805T123000
DTSTAMP:20260424T172212
CREATED:20220804T181035Z
LAST-MODIFIED:20220804T185203Z
UID:2928-1659691800-1659702600@sasaints.net
SUMMARY:Practice
DESCRIPTION:
URL:https://sasaints.net/event/practice-5/
LOCATION:FORCE Sports Center\, 7218 N Loop 1604 E\, San Antonio\, TX\, 78233\, United States
CATEGORIES:JV,MSA,MSB,Varsity
END:VEVENT
BEGIN:VEVENT
DTSTART;TZID=America/Chicago:20220804T093000
DTEND;TZID=America/Chicago:20220804T123000
DTSTAMP:20260424T172212
CREATED:20220804T181026Z
LAST-MODIFIED:20220804T181026Z
UID:2927-1659605400-1659616200@sasaints.net
SUMMARY:Practice
DESCRIPTION:
URL:https://sasaints.net/event/practice-4/
LOCATION:FORCE Sports Center\, 7218 N Loop 1604 E\, San Antonio\, TX\, 78233\, United States
CATEGORIES:JV,MSA,MSB,Varsity
END:VEVENT
BEGIN:VEVENT
DTSTART;TZID=America/Chicago:20220803T160000
DTEND;TZID=America/Chicago:20220803T190000
DTSTAMP:20260424T172212
CREATED:20220804T181014Z
LAST-MODIFIED:20220804T183459Z
UID:2926-1659542400-1659553200@sasaints.net
SUMMARY:Practice
DESCRIPTION:
URL:https://sasaints.net/event/practice-3/
LOCATION:FORCE Sports Center\, 7218 N Loop 1604 E\, San Antonio\, TX\, 78233\, United States
CATEGORIES:JV,MSA,MSB,Varsity
END:VEVENT
BEGIN:VEVENT
DTSTART;TZID=America/Chicago:20220802T160000
DTEND;TZID=America/Chicago:20220802T190000
DTSTAMP:20260424T172212
CREATED:20220804T165559Z
LAST-MODIFIED:20220804T183455Z
UID:2925-1659456000-1659466800@sasaints.net
SUMMARY:Practice
DESCRIPTION:
URL:https://sasaints.net/event/practice-2/
LOCATION:FORCE Sports Center\, 7218 N Loop 1604 E\, San Antonio\, TX\, 78233\, United States
CATEGORIES:JV,MSA,MSB,Varsity
END:VEVENT
BEGIN:VEVENT
DTSTART;TZID=America/Chicago:20220801T160000
DTEND;TZID=America/Chicago:20220801T190000
DTSTAMP:20260424T172212
CREATED:20220804T165527Z
LAST-MODIFIED:20220804T183452Z
UID:2924-1659369600-1659380400@sasaints.net
SUMMARY:Practice
DESCRIPTION:
URL:https://sasaints.net/event/practice/
LOCATION:FORCE Sports Center\, 7218 N Loop 1604 E\, San Antonio\, TX\, 78233\, United States
CATEGORIES:JV,MSA,MSB,Varsity
END:VEVENT
BEGIN:VEVENT
DTSTART;VALUE=DATE:20220605
DTEND;VALUE=DATE:20220609
DTSTAMP:20260424T172212
CREATED:20220601T051714Z
LAST-MODIFIED:20220601T051744Z
UID:2670-1654455600-1654714799@sasaints.net
SUMMARY:San Antonio Elite Volleyball Summer Camp
DESCRIPTION:Saints coaches will be running a summer camp at the Elite Volleyball Club gym. \nTime \n9:30-11:00 will be 6-8 year old\n11:00-1:00 will be 9-12 year old\n2:30-4:30 will be 13-15 year old \nCost \n$75 for 6-8 year old\n$90 for 9-15 year old \nOnline Registration Required  \nhttps://www.saelitevb.com/
URL:https://sasaints.net/event/saevb-camp-2022/
CATEGORIES:Camp
ATTACH;FMTTYPE=image/jpeg:https://sasaints.net/wp-content/uploads/2022/06/elitecamp.jpg
END:VEVENT
BEGIN:VEVENT
DTSTART;TZID=America/Chicago:20220601T053000
DTEND;TZID=America/Chicago:20220601T100000
DTSTAMP:20260424T172212
CREATED:20220511T195012Z
LAST-MODIFIED:20220601T051103Z
UID:2540-1654061400-1654077600@sasaints.net
SUMMARY:2022 Volleyball Tryouts
DESCRIPTION:Volleyball Tryouts for the 2022 season will be on June 1\, 2022 at Force Sports Center. \nThe fee per athlete is $25. \nMiddle School (6th grade to 8th grade) tryouts will be 10:30 am to 12:30 pm. \nHigh School (9th grade to 12th grade) tryouts will be 1:00 pm to 3:00 pm. \nPayment \nPlayers can pay at the door with cash or via Venmo paid to @SanAntonio-Saints (add name of player to note). \nREGISTER HERE
URL:https://sasaints.net/event/2022-volleyball-tryouts/
LOCATION:FORCE Sports Center\, 7218 N Loop 1604 E\, San Antonio\, TX\, 78233\, United States
CATEGORIES:Tryouts
ATTACH;FMTTYPE=image/jpeg:https://sasaints.net/wp-content/uploads/2022/05/2022-volleyball-tryouts.jpeg
END:VEVENT
BEGIN:VEVENT
DTSTART;TZID=America/Chicago:20220518T143000
DTEND;TZID=America/Chicago:20220518T163000
DTSTAMP:20260424T172212
CREATED:20220506T010259Z
LAST-MODIFIED:20220511T194941Z
UID:2476-1652884200-1652891400@sasaints.net
SUMMARY:Saints Spring Volleyball Camp
DESCRIPTION:This camp is open to all homeschoolers or any players not in school. The cost is $50 for three days of camp. The best price anywhere around! \nGrades Included \nMiddle School: Players entering 5th to 8th grade in Fall 2022 \nHigh School: Players entering 9th to 12th grade for Fall 2022. \nPayment \nPlayers can pay at the door with cash or via Venmo paid to @SanAntonio-Saints (add name of player to note). \nREGISTER HERE\n 
URL:https://sasaints.net/event/2022-saints-spring-volleyball-camp-3/
LOCATION:FORCE Sports Center\, 7218 N Loop 1604 E\, San Antonio\, TX\, 78233\, United States
CATEGORIES:Camp
END:VEVENT
BEGIN:VEVENT
DTSTART;TZID=America/Chicago:20220517T143000
DTEND;TZID=America/Chicago:20220517T163000
DTSTAMP:20260424T172212
CREATED:20220506T010213Z
LAST-MODIFIED:20220511T194947Z
UID:2475-1652797800-1652805000@sasaints.net
SUMMARY:Saints Spring Volleyball Camp
DESCRIPTION:This camp is open to all homeschoolers or any players not in school. The cost is $50 for three days of camp. The best price anywhere around! \nGrades Included \nMiddle School: Players entering 5th to 8th grade in Fall 2022 \nHigh School: Players entering 9th to 12th grade for Fall 2022. \nPayment \nPlayers can pay at the door with cash or via Venmo paid to @SanAntonio-Saints (add name of player to note). \nREGISTER HERE\n 
URL:https://sasaints.net/event/2022-saints-spring-volleyball-camp-2/
LOCATION:FORCE Sports Center\, 7218 N Loop 1604 E\, San Antonio\, TX\, 78233\, United States
CATEGORIES:Camp
END:VEVENT
BEGIN:VEVENT
DTSTART;TZID=America/Chicago:20220516T143000
DTEND;TZID=America/Chicago:20220516T163000
DTSTAMP:20260424T172212
CREATED:20220506T010117Z
LAST-MODIFIED:20220511T194951Z
UID:2473-1652711400-1652718600@sasaints.net
SUMMARY:Saints Spring Volleyball Camp
DESCRIPTION:This camp is open to all homeschoolers or any players not in school. The cost is $50 for three days of camp. The best price anywhere around! \nGrades Included \nMiddle School: Players entering 5th to 8th grade in Fall 2022 \nHigh School: Players entering 9th to 12th grade for Fall 2022. \nPayment \nPlayers can pay at the door with cash or via Venmo paid to @SanAntonio-Saints (add name of player to note). \nREGISTER HERE\n 
URL:https://sasaints.net/event/2022-saints-spring-volleyball-camp-1/
LOCATION:FORCE Sports Center\, 7218 N Loop 1604 E\, San Antonio\, TX\, 78233\, United States
CATEGORIES:Camp
END:VEVENT
BEGIN:VEVENT
DTSTART;TZID=America/Chicago:20220511T093000
DTEND;TZID=America/Chicago:20220511T113000
DTSTAMP:20260424T172212
CREATED:20220504T234404Z
LAST-MODIFIED:20220511T194907Z
UID:2443-1652261400-1652268600@sasaints.net
SUMMARY:Volleyball Skills Clinic
DESCRIPTION:Saints Homeschool Volleyball Skills Clinic\nGuys and Girls of all skill levels welcome! \nThis clinic is open to 4th – 12th grade. \nLocation \nForce Sports Center \n7218 N Loop 1604 E \nSan Antonio\, TX 78233 \nPayment \nPlayers can pay at the door with cash or via Venmo paid to @SanAntonio-Saints (add name of player to note).
URL:https://sasaints.net/event/2022-5-11-clinic/
LOCATION:FORCE Sports Center\, 7218 N Loop 1604 E\, San Antonio\, TX\, 78233\, United States
CATEGORIES:Clinic
END:VEVENT
BEGIN:VEVENT
DTSTART;TZID=America/Chicago:20220504T143000
DTEND;TZID=America/Chicago:20220504T163000
DTSTAMP:20260424T172212
CREATED:20220504T233812Z
LAST-MODIFIED:20220505T010055Z
UID:2441-1651674600-1651681800@sasaints.net
SUMMARY:Volleyball Skills Clinic
DESCRIPTION:Saints Homeschool Volleyball Skills Clinic\nGuys and Girls of all skill levels welcome! \nThis clinic is open to 4th – 12th grade. \nLocation \nForce Sports Center \n7218 N Loop 1604 E \nSan Antonio\, TX 78233
URL:https://sasaints.net/event/2022-05-04-clinic/
LOCATION:FORCE Sports Center\, 7218 N Loop 1604 E\, San Antonio\, TX\, 78233\, United States
CATEGORIES:Clinic
END:VEVENT
BEGIN:VEVENT
DTSTART;TZID=America/Chicago:20220427T093000
DTEND;TZID=America/Chicago:20220427T113000
DTSTAMP:20260424T172212
CREATED:20220505T010017Z
LAST-MODIFIED:20220505T010156Z
UID:2463-1651051800-1651059000@sasaints.net
SUMMARY:Volleyball Skills Clinic
DESCRIPTION:Saints Homeschool Volleyball Skills Clinic\nGuys and Girls of all skill levels welcome! \nThis clinic is open to 4th – 12th grade. \nLocation \nForce Sports Center \n7218 N Loop 1604 E \nSan Antonio\, TX 78233
URL:https://sasaints.net/event/2022-04-27-clinic/
LOCATION:FORCE Sports Center\, 7218 N Loop 1604 E\, San Antonio\, TX\, 78233\, United States
CATEGORIES:Clinic
END:VEVENT
BEGIN:VEVENT
DTSTART;TZID=America/Chicago:20220420T093000
DTEND;TZID=America/Chicago:20220420T113000
DTSTAMP:20260424T172212
CREATED:20220505T005856Z
LAST-MODIFIED:20220505T010152Z
UID:2461-1650447000-1650454200@sasaints.net
SUMMARY:Volleyball Skills Clinic
DESCRIPTION:Saints Homeschool Volleyball Skills Clinic\nGuys and Girls of all skill levels welcome! \nThis clinic is open to 4th – 12th grade. \nLocation \nForce Sports Center \n7218 N Loop 1604 E \nSan Antonio\, TX 78233
URL:https://sasaints.net/event/2022-04-20/
LOCATION:FORCE Sports Center\, 7218 N Loop 1604 E\, San Antonio\, TX\, 78233\, United States
CATEGORIES:Clinic
END:VEVENT
BEGIN:VEVENT
DTSTART;TZID=America/Chicago:20220413T093000
DTEND;TZID=America/Chicago:20220413T113000
DTSTAMP:20260424T172212
CREATED:20220505T005758Z
LAST-MODIFIED:20220505T010146Z
UID:2459-1649842200-1649849400@sasaints.net
SUMMARY:Volleyball Skills Clinic
DESCRIPTION:Saints Homeschool Volleyball Skills Clinic\nGuys and Girls of all skill levels welcome! \nThis clinic is open to 4th – 12th grade. \nLocation \nForce Sports Center \n7218 N Loop 1604 E \nSan Antonio\, TX 78233
URL:https://sasaints.net/event/2022-04-13/
LOCATION:FORCE Sports Center\, 7218 N Loop 1604 E\, San Antonio\, TX\, 78233\, United States
CATEGORIES:Clinic
END:VEVENT
BEGIN:VEVENT
DTSTART;TZID=America/Chicago:20220406T093000
DTEND;TZID=America/Chicago:20220406T113000
DTSTAMP:20260424T172212
CREATED:20220505T005635Z
LAST-MODIFIED:20220505T010208Z
UID:2457-1649237400-1649244600@sasaints.net
SUMMARY:Volleyball Skills Clinic
DESCRIPTION:Saints Homeschool Volleyball Skills Clinic\nGuys and Girls of all skill levels welcome! \nThis clinic is open to 4th – 12th grade. \nLocation \nForce Sports Center \n7218 N Loop 1604 E \nSan Antonio\, TX 78233
URL:https://sasaints.net/event/2022-04-16-clinic/
LOCATION:FORCE Sports Center\, 7218 N Loop 1604 E\, San Antonio\, TX\, 78233\, United States
CATEGORIES:Clinic
END:VEVENT
END:VCALENDAR