BEGIN:VCALENDAR
VERSION:2.0
PRODID:-//San Antonio Saints - ECPv6.13.2.1//NONSGML v1.0//EN
CALSCALE:GREGORIAN
METHOD:PUBLISH
X-ORIGINAL-URL:https://sasaints.net
X-WR-CALDESC:Events for San Antonio Saints
REFRESH-INTERVAL;VALUE=DURATION:PT1H
X-Robots-Tag:noindex
X-PUBLISHED-TTL:PT1H
BEGIN:VTIMEZONE
TZID:America/Chicago
BEGIN:DAYLIGHT
TZOFFSETFROM:-0600
TZOFFSETTO:-0500
TZNAME:CDT
DTSTART:20220313T080000
END:DAYLIGHT
BEGIN:STANDARD
TZOFFSETFROM:-0500
TZOFFSETTO:-0600
TZNAME:CST
DTSTART:20221106T070000
END:STANDARD
BEGIN:DAYLIGHT
TZOFFSETFROM:-0600
TZOFFSETTO:-0500
TZNAME:CDT
DTSTART:20230312T080000
END:DAYLIGHT
BEGIN:STANDARD
TZOFFSETFROM:-0500
TZOFFSETTO:-0600
TZNAME:CST
DTSTART:20231105T070000
END:STANDARD
END:VTIMEZONE
BEGIN:VEVENT
DTSTART;TZID=America/Chicago:20230802T090000
DTEND;TZID=America/Chicago:20230802T120000
DTSTAMP:20260424T173846
CREATED:20230805T221445Z
LAST-MODIFIED:20230805T221445Z
UID:4219-1690966800-1690977600@sasaints.net
SUMMARY:Practice
DESCRIPTION:
URL:https://sasaints.net/event/practice-51/
CATEGORIES:JV,Varsity
END:VEVENT
BEGIN:VEVENT
DTSTART;TZID=America/Chicago:20230801T120000
DTEND;TZID=America/Chicago:20230801T150000
DTSTAMP:20260424T173846
CREATED:20230805T221444Z
LAST-MODIFIED:20230805T221444Z
UID:4218-1690891200-1690902000@sasaints.net
SUMMARY:Practice
DESCRIPTION:
URL:https://sasaints.net/event/practice-50/
CATEGORIES:JV,Varsity
END:VEVENT
BEGIN:VEVENT
DTSTART;TZID=America/Chicago:20230731T120000
DTEND;TZID=America/Chicago:20230731T150000
DTSTAMP:20260424T173846
CREATED:20230805T221441Z
LAST-MODIFIED:20230805T221441Z
UID:4217-1690804800-1690815600@sasaints.net
SUMMARY:Practice
DESCRIPTION:
URL:https://sasaints.net/event/practice-49/
CATEGORIES:JV,Varsity
END:VEVENT
BEGIN:VEVENT
DTSTART;VALUE=DATE:20221026
DTEND;VALUE=DATE:20221030
DTSTAMP:20260424T173846
CREATED:20220727T065557Z
LAST-MODIFIED:20220802T194744Z
UID:2831-1666742400-1667087999@sasaints.net
SUMMARY:Homeschool National Championships
DESCRIPTION:Council Bluffs\, Iowa
URL:https://sasaints.net/event/homeschool-national-championships/
CATEGORIES:JV,Varsity
END:VEVENT
BEGIN:VEVENT
DTSTART;TZID=America/Chicago:20221020T163000
DTEND;TZID=America/Chicago:20221020T210000
DTSTAMP:20260424T173846
CREATED:20220919T032501Z
LAST-MODIFIED:20220921T170027Z
UID:3446-1666283400-1666299600@sasaints.net
SUMMARY:@ Austin Royals
DESCRIPTION:AWAY \nGAME TIMES \nMSB – 4:30 pm \nMSA – 5:30 pm \nJV – 6:30 pm \nVarsity – 7:30 pm \n 
URL:https://sasaints.net/event/austin-royals-1/
LOCATION:Round Rock Sports Center\, 2400 Chisolm Trail Rd\, Round Rock\, TX\, 78681\, United States
CATEGORIES:JV,MSA,MSB,Varsity
END:VEVENT
BEGIN:VEVENT
DTSTART;TZID=America/Chicago:20221019T153000
DTEND;TZID=America/Chicago:20221019T173000
DTSTAMP:20260424T173846
CREATED:20220804T183416Z
LAST-MODIFIED:20220804T183416Z
UID:2971-1666193400-1666200600@sasaints.net
SUMMARY:Practice
DESCRIPTION:
URL:https://sasaints.net/event/practice-48/
LOCATION:FORCE Sports Center\, 7218 N Loop 1604 E\, San Antonio\, TX\, 78233\, United States
CATEGORIES:JV,Varsity
END:VEVENT
BEGIN:VEVENT
DTSTART;TZID=America/Chicago:20221018T170000
DTEND;TZID=America/Chicago:20221018T190000
DTSTAMP:20260424T173846
CREATED:20220727T065555Z
LAST-MODIFIED:20220803T152500Z
UID:2829-1666112400-1666119600@sasaints.net
SUMMARY:@ Lutheran
DESCRIPTION:AWAY \nJV – 5:00 pm \nVarsity – 6:00 pm
URL:https://sasaints.net/event/lutheran/
LOCATION:Lutheran High School\, 18104 Babcock Rd\, San Antonio\, TX\, 78255\, United States
CATEGORIES:JV,Varsity
END:VEVENT
BEGIN:VEVENT
DTSTART;TZID=America/Chicago:20221017T180000
DTEND;TZID=America/Chicago:20221017T200000
DTSTAMP:20260424T173846
CREATED:20220804T183352Z
LAST-MODIFIED:20221017T161435Z
UID:2969-1666029600-1666036800@sasaints.net
SUMMARY:Practice
DESCRIPTION:CANCELED
URL:https://sasaints.net/event/practice-46/
LOCATION:FORCE Sports Center\, 7218 N Loop 1604 E\, San Antonio\, TX\, 78233\, United States
CATEGORIES:Varsity
END:VEVENT
BEGIN:VEVENT
DTSTART;VALUE=DATE:20221014
DTEND;VALUE=DATE:20221016
DTSTAMP:20260424T173846
CREATED:20220727T065546Z
LAST-MODIFIED:20221013T213749Z
UID:2828-1665705600-1665878399@sasaints.net
SUMMARY:TAIAO State Tournament
DESCRIPTION:Check the TAIAO page for full details!
URL:https://sasaints.net/event/taiao-state-tournament/
LOCATION:FORCE Sports Center\, 7218 N Loop 1604 E\, San Antonio\, TX\, 78233\, United States
CATEGORIES:JV,MSA,MSB,Varsity
END:VEVENT
BEGIN:VEVENT
DTSTART;TZID=America/Chicago:20221012T153000
DTEND;TZID=America/Chicago:20221012T173000
DTSTAMP:20260424T173846
CREATED:20220804T183336Z
LAST-MODIFIED:20220804T183336Z
UID:2967-1665588600-1665595800@sasaints.net
SUMMARY:Practice
DESCRIPTION:
URL:https://sasaints.net/event/practice-44/
LOCATION:FORCE Sports Center\, 7218 N Loop 1604 E\, San Antonio\, TX\, 78233\, United States
CATEGORIES:JV,Varsity
END:VEVENT
BEGIN:VEVENT
DTSTART;TZID=America/Chicago:20221011T163000
DTEND;TZID=America/Chicago:20221011T193000
DTSTAMP:20260424T173846
CREATED:20220727T065545Z
LAST-MODIFIED:20221007T153807Z
UID:2827-1665505800-1665516600@sasaints.net
SUMMARY:@ Gloria Deo
DESCRIPTION:CANCELED \nMS – 4:30pm \nJV – 5:30 pm \nVarsity – 6:30 pm
URL:https://sasaints.net/event/gloria-deo-3/
CATEGORIES:JV,MSA,Varsity
END:VEVENT
BEGIN:VEVENT
DTSTART;TZID=America/Chicago:20221010T180000
DTEND;TZID=America/Chicago:20221010T200000
DTSTAMP:20260424T173846
CREATED:20220804T183321Z
LAST-MODIFIED:20220804T183321Z
UID:2965-1665424800-1665432000@sasaints.net
SUMMARY:Practice
DESCRIPTION:
URL:https://sasaints.net/event/practice-42/
LOCATION:FORCE Sports Center\, 7218 N Loop 1604 E\, San Antonio\, TX\, 78233\, United States
CATEGORIES:Varsity
END:VEVENT
BEGIN:VEVENT
DTSTART;TZID=America/Chicago:20221006T163000
DTEND;TZID=America/Chicago:20221006T210000
DTSTAMP:20260424T173846
CREATED:20220727T065544Z
LAST-MODIFIED:20220906T172627Z
UID:2826-1665073800-1665090000@sasaints.net
SUMMARY:BACH
DESCRIPTION:GAME TIMES \nMS B – 4:30 pm \nMS A – 5:30 pm \nJV – 6:30 pm \nVarsity – 7:30 pm \nCOST TO ENTER \nAdults – $5 \nChildren – $3 \nNo outside food or drink is allowed by FORCE Sports Center. Concession stand will be available.
URL:https://sasaints.net/event/bach/
LOCATION:FORCE Sports Center\, 7218 N Loop 1604 E\, San Antonio\, TX\, 78233\, United States
CATEGORIES:JV,MSA,MSB,Varsity
END:VEVENT
BEGIN:VEVENT
DTSTART;TZID=America/Chicago:20221005T153000
DTEND;TZID=America/Chicago:20221005T173000
DTSTAMP:20260424T173846
CREATED:20220804T183306Z
LAST-MODIFIED:20221005T022051Z
UID:2963-1664983800-1664991000@sasaints.net
SUMMARY:Practice
DESCRIPTION:
URL:https://sasaints.net/event/practice-40/
LOCATION:FORCE Sports Center\, 7218 N Loop 1604 E\, San Antonio\, TX\, 78233\, United States
CATEGORIES:JV,Varsity
END:VEVENT
BEGIN:VEVENT
DTSTART;TZID=America/Chicago:20221004T173000
DTEND;TZID=America/Chicago:20221004T193000
DTSTAMP:20260424T173846
CREATED:20220727T065542Z
LAST-MODIFIED:20220919T032222Z
UID:2825-1664904600-1664911800@sasaints.net
SUMMARY:@ Keystone
DESCRIPTION:AWAY \nJV – Cancelled \nVarsity – 5:30 pm
URL:https://sasaints.net/event/keystone/
LOCATION:Keystone School\, 119 E Craig Place\, San Antonio\, TX\, 78212\, United States
CATEGORIES:Varsity
END:VEVENT
BEGIN:VEVENT
DTSTART;TZID=America/Chicago:20221003T180000
DTEND;TZID=America/Chicago:20221003T200000
DTSTAMP:20260424T173846
CREATED:20220804T183246Z
LAST-MODIFIED:20220804T183246Z
UID:2961-1664820000-1664827200@sasaints.net
SUMMARY:Practice
DESCRIPTION:
URL:https://sasaints.net/event/practice-38/
LOCATION:FORCE Sports Center\, 7218 N Loop 1604 E\, San Antonio\, TX\, 78233\, United States
CATEGORIES:Varsity
END:VEVENT
BEGIN:VEVENT
DTSTART;TZID=America/Chicago:20220930T173000
DTEND;TZID=America/Chicago:20220930T200000
DTSTAMP:20260424T173846
CREATED:20220727T065540Z
LAST-MODIFIED:20220906T172505Z
UID:2824-1664559000-1664568000@sasaints.net
SUMMARY:South San West Campus
DESCRIPTION:GAME TIMES \nJV – 5:30 pm \nVarsity – 6:30 pm \nCOST TO ENTER \nAdults – $5 \nChildren – $3 \nNo outside food or drink is allowed by FORCE Sports Center. Concession stand will be available.
URL:https://sasaints.net/event/south-san-west-campus/
LOCATION:FORCE Sports Center\, 7218 N Loop 1604 E\, San Antonio\, TX\, 78233\, United States
CATEGORIES:JV,Varsity
END:VEVENT
BEGIN:VEVENT
DTSTART;TZID=America/Chicago:20220929T163000
DTEND;TZID=America/Chicago:20220929T193000
DTSTAMP:20260424T173846
CREATED:20220727T065516Z
LAST-MODIFIED:20220906T172455Z
UID:2823-1664469000-1664479800@sasaints.net
SUMMARY:Gloria Deo
DESCRIPTION:GAME TIMES \nMS – 4:30 pm \nJV – 5:30 pm \nVarsity – 6:30 pm \nCOST TO ENTER \nAdults – $5 \nChildren – $3 \nNo outside food or drink is allowed by FORCE Sports Center. Concession stand will be available.
URL:https://sasaints.net/event/gloria-deo-2/
LOCATION:FORCE Sports Center\, 7218 N Loop 1604 E\, San Antonio\, TX\, 78233\, United States
CATEGORIES:JV,MSA,Varsity
END:VEVENT
BEGIN:VEVENT
DTSTART;TZID=America/Chicago:20220928T153000
DTEND;TZID=America/Chicago:20220928T173000
DTSTAMP:20260424T173846
CREATED:20220804T182903Z
LAST-MODIFIED:20221005T022019Z
UID:2959-1664379000-1664386200@sasaints.net
SUMMARY:Practice
DESCRIPTION:
URL:https://sasaints.net/event/practice-36/
LOCATION:FORCE Sports Center\, 7218 N Loop 1604 E\, San Antonio\, TX\, 78233\, United States
CATEGORIES:JV,Varsity
END:VEVENT
BEGIN:VEVENT
DTSTART;TZID=America/Chicago:20220926T180000
DTEND;TZID=America/Chicago:20220926T200000
DTSTAMP:20260424T173846
CREATED:20220804T182843Z
LAST-MODIFIED:20220804T182843Z
UID:2957-1664215200-1664222400@sasaints.net
SUMMARY:Practice
DESCRIPTION:
URL:https://sasaints.net/event/practice-34/
LOCATION:FORCE Sports Center\, 7218 N Loop 1604 E\, San Antonio\, TX\, 78233\, United States
CATEGORIES:Varsity
END:VEVENT
BEGIN:VEVENT
DTSTART;TZID=America/Chicago:20220922T173000
DTEND;TZID=America/Chicago:20220922T190000
DTSTAMP:20260424T173846
CREATED:20220727T065511Z
LAST-MODIFIED:20220912T151018Z
UID:2822-1663867800-1663873200@sasaints.net
SUMMARY:@ San Marcos Academy
DESCRIPTION:AWAY \nJV – Cancelled \nVarsity – 5:30 pm
URL:https://sasaints.net/event/san-marcos-academy/
LOCATION:San Marcos Academy\, 2801 Ranch Road 12\, San Marcos\, TX\, 78666\, United States
CATEGORIES:Varsity
END:VEVENT
BEGIN:VEVENT
DTSTART;TZID=America/Chicago:20220921T153000
DTEND;TZID=America/Chicago:20220921T173000
DTSTAMP:20260424T173846
CREATED:20220804T182831Z
LAST-MODIFIED:20220804T182831Z
UID:2955-1663774200-1663781400@sasaints.net
SUMMARY:Practice
DESCRIPTION:
URL:https://sasaints.net/event/practice-32/
LOCATION:FORCE Sports Center\, 7218 N Loop 1604 E\, San Antonio\, TX\, 78233\, United States
CATEGORIES:JV,Varsity
END:VEVENT
BEGIN:VEVENT
DTSTART;TZID=America/Chicago:20220920T173000
DTEND;TZID=America/Chicago:20220920T210000
DTSTAMP:20260424T173846
CREATED:20220727T065505Z
LAST-MODIFIED:20220919T032123Z
UID:2821-1663695000-1663707600@sasaints.net
SUMMARY:Austin Royals (Senior Night)
DESCRIPTION:GAME TIMES \nMSB – 4:30 pm \nMSA – 5:30 pm \nJV – 6:30 pm \nVarsity – 7:30 pm \nCOST TO ENTER \nAdults – $5 \nChildren – $3 \nNo outside food or drink is allowed by FORCE Sports Center. Concession stand will be available.
URL:https://sasaints.net/event/austin-royals/
LOCATION:FORCE Sports Center\, 7218 N Loop 1604 E\, San Antonio\, TX\, 78233\, United States
CATEGORIES:JV,MSA,MSB,Varsity
END:VEVENT
BEGIN:VEVENT
DTSTART;TZID=America/Chicago:20220919T180000
DTEND;TZID=America/Chicago:20220919T200000
DTSTAMP:20260424T173846
CREATED:20220804T182808Z
LAST-MODIFIED:20220804T182808Z
UID:2953-1663610400-1663617600@sasaints.net
SUMMARY:Practice
DESCRIPTION:
URL:https://sasaints.net/event/practice-30/
LOCATION:FORCE Sports Center\, 7218 N Loop 1604 E\, San Antonio\, TX\, 78233\, United States
CATEGORIES:Varsity
END:VEVENT
BEGIN:VEVENT
DTSTART;VALUE=DATE:20220917
DTEND;VALUE=DATE:20220918
DTSTAMP:20260424T173846
CREATED:20220727T065504Z
LAST-MODIFIED:20220916T143522Z
UID:2820-1663372800-1663459199@sasaints.net
SUMMARY:Saints High School Tournament
DESCRIPTION:COST TO ENTER \nAdults – $10 \nChildren – $5 \nNo outside food or drink is allowed by FORCE Sports Center. Concession stand will be available.
URL:https://sasaints.net/event/saints-high-school-tournament/
LOCATION:FORCE Sports Center\, 7218 N Loop 1604 E\, San Antonio\, TX\, 78233\, United States
CATEGORIES:JV,Varsity
END:VEVENT
BEGIN:VEVENT
DTSTART;TZID=America/Chicago:20220916T173000
DTEND;TZID=America/Chicago:20220916T200000
DTSTAMP:20260424T173846
CREATED:20220727T065459Z
LAST-MODIFIED:20220914T192125Z
UID:2819-1663349400-1663358400@sasaints.net
SUMMARY:KIPP UPrep
DESCRIPTION:***CANCELLED *** \nJV – 5:30pm \nVarsity – 6:30pm
URL:https://sasaints.net/event/kipp-prep/
LOCATION:KIPP UPrep\, 239 Stark St\, San Antonio\, TX\, 78204\, United States
CATEGORIES:JV,Varsity
END:VEVENT
BEGIN:VEVENT
DTSTART;TZID=America/Chicago:20220914T153000
DTEND;TZID=America/Chicago:20220914T173000
DTSTAMP:20260424T173846
CREATED:20220804T182742Z
LAST-MODIFIED:20220804T182742Z
UID:2951-1663169400-1663176600@sasaints.net
SUMMARY:Practice
DESCRIPTION:
URL:https://sasaints.net/event/practice-28/
LOCATION:FORCE Sports Center\, 7218 N Loop 1604 E\, San Antonio\, TX\, 78233\, United States
CATEGORIES:JV,Varsity
END:VEVENT
BEGIN:VEVENT
DTSTART;TZID=America/Chicago:20220913T173000
DTEND;TZID=America/Chicago:20220913T200000
DTSTAMP:20260424T173846
CREATED:20220727T065406Z
LAST-MODIFIED:20220907T174553Z
UID:2817-1663090200-1663099200@sasaints.net
SUMMARY:@ Blanco
DESCRIPTION:AWAY \nJV – 5:30 pm \nVarsity – 6:30 pm
URL:https://sasaints.net/event/blanco/
LOCATION:Blanco High School\, 1215 4th St\, Blanco\, TX\, 78163\, United States
CATEGORIES:JV,Varsity
END:VEVENT
BEGIN:VEVENT
DTSTART;TZID=America/Chicago:20220912T180000
DTEND;TZID=America/Chicago:20220912T200000
DTSTAMP:20260424T173846
CREATED:20220804T182723Z
LAST-MODIFIED:20220804T182723Z
UID:2949-1663005600-1663012800@sasaints.net
SUMMARY:Practice
DESCRIPTION:
URL:https://sasaints.net/event/practice-26/
LOCATION:FORCE Sports Center\, 7218 N Loop 1604 E\, San Antonio\, TX\, 78233\, United States
CATEGORIES:Varsity
END:VEVENT
BEGIN:VEVENT
DTSTART;VALUE=DATE:20220909
DTEND;VALUE=DATE:20220911
DTSTAMP:20260424T173846
CREATED:20220803T142034Z
LAST-MODIFIED:20220907T173428Z
UID:2888-1662681600-1662854399@sasaints.net
SUMMARY:Castle Hills Tournament
DESCRIPTION:Varsity only. \nGate Admission prices are as follows:\n1 Day pass $20\, Seniors/Students $15\nKids 5 and under are free \n2 Day pass $30\, Seniors/Students $20\nKids 5 and under are free
URL:https://sasaints.net/event/castle-hills-tournament/
LOCATION:The Christian School at Castle Hills\, 2216 NW Military Hwy\, San Antonio\, TX\, 78213\, United States
CATEGORIES:Varsity
END:VEVENT
BEGIN:VEVENT
DTSTART;TZID=America/Chicago:20220907T153000
DTEND;TZID=America/Chicago:20220907T173000
DTSTAMP:20260424T173846
CREATED:20220804T182650Z
LAST-MODIFIED:20220907T183613Z
UID:2947-1662564600-1662571800@sasaints.net
SUMMARY:Practice
DESCRIPTION:JV and Varsity
URL:https://sasaints.net/event/practice-24/
LOCATION:FORCE Sports Center\, 7218 N Loop 1604 E\, San Antonio\, TX\, 78233\, United States
CATEGORIES:JV,Varsity
END:VEVENT
BEGIN:VEVENT
DTSTART;TZID=America/Chicago:20220906T170000
DTEND;TZID=America/Chicago:20220906T190000
DTSTAMP:20260424T173846
CREATED:20220727T065404Z
LAST-MODIFIED:20220906T172520Z
UID:2815-1662483600-1662490800@sasaints.net
SUMMARY:Castle Hills
DESCRIPTION:GAME TIMES \nJV – 5:00 pm \nVarsity – 6:00 pm \nCOST TO ENTER \nAdults – $5 \nChildren – $3 \nNo outside food or drink is allowed by FORCE Sports Center. Concession stand will be available.
URL:https://sasaints.net/event/castle-hills/
LOCATION:FORCE Sports Center\, 7218 N Loop 1604 E\, San Antonio\, TX\, 78233\, United States
CATEGORIES:JV,Varsity
END:VEVENT
BEGIN:VEVENT
DTSTART;TZID=America/Chicago:20220905T180000
DTEND;TZID=America/Chicago:20220905T200000
DTSTAMP:20260424T173846
CREATED:20220804T182631Z
LAST-MODIFIED:20220804T182631Z
UID:2945-1662400800-1662408000@sasaints.net
SUMMARY:Practice
DESCRIPTION:
URL:https://sasaints.net/event/practice-22/
LOCATION:FORCE Sports Center\, 7218 N Loop 1604 E\, San Antonio\, TX\, 78233\, United States
CATEGORIES:Varsity
END:VEVENT
BEGIN:VEVENT
DTSTART;TZID=America/Chicago:20220831T153000
DTEND;TZID=America/Chicago:20220831T173000
DTSTAMP:20260424T173846
CREATED:20220804T182215Z
LAST-MODIFIED:20220804T182215Z
UID:2943-1661959800-1661967000@sasaints.net
SUMMARY:Practice
DESCRIPTION:
URL:https://sasaints.net/event/practice-20/
LOCATION:FORCE Sports Center\, 7218 N Loop 1604 E\, San Antonio\, TX\, 78233\, United States
CATEGORIES:JV,Varsity
END:VEVENT
BEGIN:VEVENT
DTSTART;TZID=America/Chicago:20220830T170000
DTEND;TZID=America/Chicago:20220830T190000
DTSTAMP:20260424T173846
CREATED:20220727T065326Z
LAST-MODIFIED:20220803T143411Z
UID:2812-1661878800-1661886000@sasaints.net
SUMMARY:@ Brentwood Christian School
DESCRIPTION:AWAY \nJV – 5:00 pm \nVarsity – 6:00 pm
URL:https://sasaints.net/event/brentwood/
LOCATION:Brentwood Christian School\, 11908 N Lamar Blvd\, Austin\, TX\, 78753\, United States
CATEGORIES:JV,Varsity
END:VEVENT
BEGIN:VEVENT
DTSTART;TZID=America/Chicago:20220829T180000
DTEND;TZID=America/Chicago:20220829T200000
DTSTAMP:20260424T173846
CREATED:20220804T182151Z
LAST-MODIFIED:20220804T182151Z
UID:2941-1661796000-1661803200@sasaints.net
SUMMARY:Practice
DESCRIPTION:
URL:https://sasaints.net/event/practice-18/
LOCATION:FORCE Sports Center\, 7218 N Loop 1604 E\, San Antonio\, TX\, 78233\, United States
CATEGORIES:Varsity
END:VEVENT
BEGIN:VEVENT
DTSTART;TZID=America/Chicago:20220825T170000
DTEND;TZID=America/Chicago:20220825T190000
DTSTAMP:20260424T173846
CREATED:20220727T065322Z
LAST-MODIFIED:20220803T150351Z
UID:2810-1661446800-1661454000@sasaints.net
SUMMARY:@ Bracken
DESCRIPTION:AWAY \nJV – 5:00 pm \nVarsity – 6:00 pm
URL:https://sasaints.net/event/bracken/
LOCATION:BCS Gym\, 670 Old Boerne Rd\, Bulverde\, TX\, 78163\, United States
CATEGORIES:JV,Varsity
END:VEVENT
BEGIN:VEVENT
DTSTART;TZID=America/Chicago:20220824T153000
DTEND;TZID=America/Chicago:20220824T173000
DTSTAMP:20260424T173846
CREATED:20220804T182127Z
LAST-MODIFIED:20220804T182127Z
UID:2939-1661355000-1661362200@sasaints.net
SUMMARY:Practice
DESCRIPTION:
URL:https://sasaints.net/event/practice-16/
LOCATION:FORCE Sports Center\, 7218 N Loop 1604 E\, San Antonio\, TX\, 78233\, United States
CATEGORIES:JV,Varsity
END:VEVENT
BEGIN:VEVENT
DTSTART;TZID=America/Chicago:20220823T180000
DTEND;TZID=America/Chicago:20220823T200000
DTSTAMP:20260424T173846
CREATED:20220804T182057Z
LAST-MODIFIED:20220822T225133Z
UID:2937-1661277600-1661284800@sasaints.net
SUMMARY:**CANCELED**  Practice
DESCRIPTION:This practice is canceled.
URL:https://sasaints.net/event/practice-14/
LOCATION:FORCE Sports Center\, 7218 N Loop 1604 E\, San Antonio\, TX\, 78233\, United States
CATEGORIES:JV,Varsity
END:VEVENT
BEGIN:VEVENT
DTSTART;TZID=America/Chicago:20220822T163000
DTEND;TZID=America/Chicago:20220822T213000
DTSTAMP:20260424T173846
CREATED:20220727T065316Z
LAST-MODIFIED:20220821T222721Z
UID:2809-1661185800-1661203800@sasaints.net
SUMMARY:@ Great Hearts Northern Oaks
DESCRIPTION:AWAY \nMSA – 4:30 pm \nMSB – 5:45 pm \nJV – 7:00 pm \nVarsity – 8:15 pm
URL:https://sasaints.net/event/great-hearts-northern-oaks-2/
LOCATION:Great Hearts Nothern Oaks\, 17223 Jones Maltsberger Rd.\, San Antonio\, TX\, 78247\, United States
CATEGORIES:JV,MSA,MSB,Varsity
END:VEVENT
BEGIN:VEVENT
DTSTART;VALUE=DATE:20220819
DTEND;VALUE=DATE:20220821
DTSTAMP:20260424T173846
CREATED:20220727T065310Z
LAST-MODIFIED:20220804T184213Z
UID:2808-1660867200-1661039999@sasaints.net
SUMMARY:CHSM Tournament
DESCRIPTION:This is a two day format tournament. \n  \nGate Fees: \nAdults – $12/day or $20/weekend \nStudents $10/day or $15/weekend \nPayment by cash\, Cash App\, or Venmo. Convenience fee charged for Cash App and Venmo.
URL:https://sasaints.net/event/chsm-tournament/
LOCATION:The Competitive Edge\, 2733 Rayford Rd\, Spring\, TX\, 77386\, United States
CATEGORIES:JV,MSA,MSB,Varsity
END:VEVENT
BEGIN:VEVENT
DTSTART;TZID=America/Chicago:20220817T153000
DTEND;TZID=America/Chicago:20220817T173000
DTSTAMP:20260424T173846
CREATED:20220804T182033Z
LAST-MODIFIED:20220804T182033Z
UID:2936-1660750200-1660757400@sasaints.net
SUMMARY:Practice
DESCRIPTION:
URL:https://sasaints.net/event/practice-13/
LOCATION:FORCE Sports Center\, 7218 N Loop 1604 E\, San Antonio\, TX\, 78233\, United States
CATEGORIES:JV,Varsity
END:VEVENT
BEGIN:VEVENT
DTSTART;TZID=America/Chicago:20220816T170000
DTEND;TZID=America/Chicago:20220816T190000
DTSTAMP:20260424T173846
CREATED:20220727T065308Z
LAST-MODIFIED:20220907T024637Z
UID:2807-1660669200-1660676400@sasaints.net
SUMMARY:John Paul II
DESCRIPTION:JV – 5:00 pm \nVarsity – 6:00 pm
URL:https://sasaints.net/event/john-paul-ii/
LOCATION:FORCE Sports Center\, 7218 N Loop 1604 E\, San Antonio\, TX\, 78233\, United States
CATEGORIES:JV,Varsity
END:VEVENT
BEGIN:VEVENT
DTSTART;TZID=America/Chicago:20220815T180000
DTEND;TZID=America/Chicago:20220815T200000
DTSTAMP:20260424T173846
CREATED:20220804T181955Z
LAST-MODIFIED:20220804T181955Z
UID:2934-1660586400-1660593600@sasaints.net
SUMMARY:Practice
DESCRIPTION:
URL:https://sasaints.net/event/practice-11/
LOCATION:FORCE Sports Center\, 7218 N Loop 1604 E\, San Antonio\, TX\, 78233\, United States
CATEGORIES:Varsity
END:VEVENT
BEGIN:VEVENT
DTSTART;TZID=America/Chicago:20220811T170000
DTEND;TZID=America/Chicago:20220811T193000
DTSTAMP:20260424T173846
CREATED:20220727T065307Z
LAST-MODIFIED:20220803T144804Z
UID:2806-1660237200-1660246200@sasaints.net
SUMMARY:Great Hearts Northern Oaks
DESCRIPTION:JV – 5:00 pm \nVarsity – 6:15 pm
URL:https://sasaints.net/event/great-hearts-northern-oaks/
LOCATION:FORCE Sports Center\, 7218 N Loop 1604 E\, San Antonio\, TX\, 78233\, United States
CATEGORIES:JV,Varsity
END:VEVENT
BEGIN:VEVENT
DTSTART;TZID=America/Chicago:20220810T153000
DTEND;TZID=America/Chicago:20220810T173000
DTSTAMP:20260424T173846
CREATED:20220804T181926Z
LAST-MODIFIED:20220804T181926Z
UID:2932-1660145400-1660152600@sasaints.net
SUMMARY:Practice
DESCRIPTION:
URL:https://sasaints.net/event/practice-9/
LOCATION:FORCE Sports Center\, 7218 N Loop 1604 E\, San Antonio\, TX\, 78233\, United States
CATEGORIES:JV,Varsity
END:VEVENT
BEGIN:VEVENT
DTSTART;TZID=America/Chicago:20220809T173000
DTEND;TZID=America/Chicago:20220809T193000
DTSTAMP:20260424T173846
CREATED:20220727T065305Z
LAST-MODIFIED:20220803T150625Z
UID:2805-1660066200-1660073400@sasaints.net
SUMMARY:@ Round Rock Christian Academy
DESCRIPTION:AWAY \nJV – 5:30 pm \nVarsity – 6:30 pm
URL:https://sasaints.net/event/round-rock-christian-academy/
LOCATION:Round Rock Cristian Academy\, 800 Westwood Drive\, Round Rock\, TX\, 78681\, United States
CATEGORIES:JV,Varsity
END:VEVENT
BEGIN:VEVENT
DTSTART;TZID=America/Chicago:20220808T180000
DTEND;TZID=America/Chicago:20220808T200000
DTSTAMP:20260424T173846
CREATED:20220804T181836Z
LAST-MODIFIED:20220804T181836Z
UID:2930-1659981600-1659988800@sasaints.net
SUMMARY:Practice
DESCRIPTION:
URL:https://sasaints.net/event/practice-7/
LOCATION:FORCE Sports Center\, 7218 N Loop 1604 E\, San Antonio\, TX\, 78233\, United States
CATEGORIES:Varsity
END:VEVENT
BEGIN:VEVENT
DTSTART;TZID=America/Chicago:20220806T100000
DTEND;TZID=America/Chicago:20220806T140000
DTSTAMP:20260424T173846
CREATED:20220727T065300Z
LAST-MODIFIED:20220803T144117Z
UID:2804-1659780000-1659794400@sasaints.net
SUMMARY:@ Heritage Tri Match
DESCRIPTION:This is a Varsity-only tri match with Fredricksburg Heritage and Harper ISD.
URL:https://sasaints.net/event/heritage-tri-match/
LOCATION:Heritage School\, 310 Smokehouse Road\, Fredricksburg\, 78624\, United States
CATEGORIES:Varsity
END:VEVENT
BEGIN:VEVENT
DTSTART;TZID=America/Chicago:20220805T093000
DTEND;TZID=America/Chicago:20220805T123000
DTSTAMP:20260424T173846
CREATED:20220804T181035Z
LAST-MODIFIED:20220804T185203Z
UID:2928-1659691800-1659702600@sasaints.net
SUMMARY:Practice
DESCRIPTION:
URL:https://sasaints.net/event/practice-5/
LOCATION:FORCE Sports Center\, 7218 N Loop 1604 E\, San Antonio\, TX\, 78233\, United States
CATEGORIES:JV,MSA,MSB,Varsity
END:VEVENT
BEGIN:VEVENT
DTSTART;TZID=America/Chicago:20220804T093000
DTEND;TZID=America/Chicago:20220804T123000
DTSTAMP:20260424T173846
CREATED:20220804T181026Z
LAST-MODIFIED:20220804T181026Z
UID:2927-1659605400-1659616200@sasaints.net
SUMMARY:Practice
DESCRIPTION:
URL:https://sasaints.net/event/practice-4/
LOCATION:FORCE Sports Center\, 7218 N Loop 1604 E\, San Antonio\, TX\, 78233\, United States
CATEGORIES:JV,MSA,MSB,Varsity
END:VEVENT
BEGIN:VEVENT
DTSTART;TZID=America/Chicago:20220803T160000
DTEND;TZID=America/Chicago:20220803T190000
DTSTAMP:20260424T173846
CREATED:20220804T181014Z
LAST-MODIFIED:20220804T183459Z
UID:2926-1659542400-1659553200@sasaints.net
SUMMARY:Practice
DESCRIPTION:
URL:https://sasaints.net/event/practice-3/
LOCATION:FORCE Sports Center\, 7218 N Loop 1604 E\, San Antonio\, TX\, 78233\, United States
CATEGORIES:JV,MSA,MSB,Varsity
END:VEVENT
BEGIN:VEVENT
DTSTART;TZID=America/Chicago:20220802T160000
DTEND;TZID=America/Chicago:20220802T190000
DTSTAMP:20260424T173846
CREATED:20220804T165559Z
LAST-MODIFIED:20220804T183455Z
UID:2925-1659456000-1659466800@sasaints.net
SUMMARY:Practice
DESCRIPTION:
URL:https://sasaints.net/event/practice-2/
LOCATION:FORCE Sports Center\, 7218 N Loop 1604 E\, San Antonio\, TX\, 78233\, United States
CATEGORIES:JV,MSA,MSB,Varsity
END:VEVENT
BEGIN:VEVENT
DTSTART;TZID=America/Chicago:20220801T160000
DTEND;TZID=America/Chicago:20220801T190000
DTSTAMP:20260424T173846
CREATED:20220804T165527Z
LAST-MODIFIED:20220804T183452Z
UID:2924-1659369600-1659380400@sasaints.net
SUMMARY:Practice
DESCRIPTION:
URL:https://sasaints.net/event/practice/
LOCATION:FORCE Sports Center\, 7218 N Loop 1604 E\, San Antonio\, TX\, 78233\, United States
CATEGORIES:JV,MSA,MSB,Varsity
END:VEVENT
END:VCALENDAR